Workbook

Sheet 1. Форма сбора
A1: Занятость выпускников 2025 года
A2: Наименование ПОО (Выбираем из списка) | B2: Код и наименование профессии, специальности (Выбираем из списка) | C2: Суммарный выпуск 2025 г. (человек) вне зависимости от финансовой основы обучения, формы обучения, ведомственной принадлежности организации СВЕРЯЕМ С СПО-1 | F2: Трудоустроены (на 10.02.26) | J2: Планируют трудоустроиться (прогноз на 3 месяца) | N2: Иная форма занятости | S2: Прочее, редкие жизненные обстоятельства | W2: Зона риска
D3: Из них (из графы 2): лица с ОВЗ и инвалиды, дети-инвалиды (незабываем расписывать на листе 2) | E3: Из них (из графы 2): имеют заключенный договор о целевом обучении (незабываем расписывать на листе 3) | F3: Трудоустроены (в соответствии с трудовым законодательством, законодательством об обязательном пенсионном страховании) | G3: из них (из 3): трудоустроены по полученной профессии, специальности | H3: из них (из 3): продолжают обучение | I3: из них (из 3): проходят службу в армии на контрактной основе, в органах внутренних дел, Государственной противопожарной службе, органах по контролю за оборотом наркотических средств и психотропных веществ, учреждениях и органах уголовно-исполнительной системы, войсках национальной гвардии Российской Федерации, органах принудительного исполнения Российской Федерации | J3: Будут трудоустроены (в соответствии с трудовым законодательством, законодательством об обязательном пенсионном страховании) | K3: из них (из 4): будут трудоустроены по полученной профессии, специальности | L3: из них (из 4): продолжат обучение | M3: из них (из 4): будут проходить службу в армии на контрактной основе, в органах внутренних дел, Государственной противопожарной службе, органах по контролю за оборотом наркотических средств и психотропных веществ, учреждениях и органах уголовно-исполнительной системы, войсках национальной гвардии Российской Федерации, органах принудительного исполнения Российской Федерации | N3: Продолжат обучение и не трудоустроились (не планируют трудоустройство, предпринимательство) | O3: Призваны (будут призваны) в Вооруженные Силы РФ | P3: Находятся (будут находиться) в отпуске по уходу за ребенком | Q3: Зарегистрированы (планируют зарегистрироваться) в качестве индивидуального предпринимателя | R3: Оформили (планируют оформить) самозанятость | S3: Находятся под следствием, отбывают наказание | T3: Ухаживают за больными родственниками (иные семейные обстоятельства) | U3: Переехали (планируют переезд) за пределы Российской Федерации | V3: Тяжелое состояние здоровья, не позволяющее трудоустраиваться; смерть | W3: Зарегистрированы в центрах занятости в качестве безработных (получают пособие по безработице) | X3: Не имеют мотивации к трудоустройству и не планируют трудоустраиваться, в том числе по причинам получения иных социальных льгот | Y3: Отсутствует спрос на специалистов в регионе, находятся в поиске работы | Z3: Теневая занятость | AA3: Отрасль (Выбираем из списка) | AB3: Принимаемые меры по содействию трудоустройству выпускников (Выбираем из списка)
A4: ПОО | B4: 1 | C4: 2 | D4: 22 | E4: 23 | F4: 3 | G4: 3.1 | H4: 3.2 | I4: 3.3 | J4: 4 | K4: 4.1 | L4: 4.2 | M4: 4.3 | N4: 5 | O4: 6 | P4: 7 | Q4: 8 | R4: 9 | S4: 10 | T4: 11 | U4: 12 | V4: 13 | W4: 14 | X4: 15 | Y4: 16 | Z4: 17 | AA4: 172 | AB4: 18
A5: ГБПОУ ПУ № 13 имени дважды Героя Социалистического Труда В.И.Штепо | B5: 08.01.25 Мастер отделочных строительных и декоративных работ | C5: 19 | D5: 0 | E5: 0 | F5: 13 | G5: 2 | H5: 0 | I5: 1 | J5: 0 | K5: 0 | L5: 0 | M5: 0 | N5: 0 | O5: 5 | P5: 0 | Q5: 0 | R5: 0 | S5: 0 | T5: 0 | U5: 0 | V5: 0 | W5: 0 | X5: 0 | Y5: 0 | Z5: 1 | AA5: Сфера услуг | AB5: Информирование об имеющихся вакансиях
A6: ГБПОУ ПУ № 13 имени дважды Героя Социалистического Труда В.И.Штепо | B6: 08.01.28 Мастер отделочных строительных и декоративных работ | C6: 17 | D6: 0 | E6: 0 | F6: 11 | G6: 1 | H6: 1 | I6: 0 | J6: 0 | K6: 0 | L6: 0 | M6: 0 | N6: 0 | O6: 4 | P6: 0 | Q6: 0 | R6: 0 | S6: 0 | T6: 0 | U6: 0 | V6: 0 | W6: 0 | X6: 0 | Y6: 0 | Z6: 2 | AA6: Сфера услуг | AB6: Информирование об имеющихся вакансиях
A7: ГБПОУ ПУ № 13 имени дважды Героя Социалистического Труда В.И.Штепо | B7: 08.01.10 Мастер жилищно-коммунального хозяйства | C7: 22 | D7: 0 | E7: 0 | F7: 9 | G7: 2 | H7: 0 | I7: 7 | J7: 0 | K7: 0 | L7: 0 | M7: 0 | N7: 0 | O7: 12 | P7: 1 | Q7: 0 | R7: 0 | S7: 0 | T7: 0 | U7: 0 | V7: 0 | W7: 0 | X7: 0 | Y7: 0 | Z7: 0 | AB7: Взаимодействие с куратором группы
A8: ГБПОУ ПУ № 13 имени дважды Героя Социалистического Труда В.И.Штепо | B8: 08.01.29 Мастер по ремонту и обслуживанию инженерных систем жилищно-коммунального хозяйства | C8: 21 | D8: 0 | E8: 0 | F8: 10 | G8: 2 | H8: 2 | I8: 1 | J8: 0 | K8: 0 | L8: 0 | M8: 0 | N8: 0 | O8: 8 | P8: 1 | Q8: 0 | R8: 0 | S8: 0 | T8: 0 | U8: 0 | V8: 0 | W8: 0 | X8: 0 | Y8: 0 | Z8: 2 | AA8: Сфера услуг | AB8: Взаимодействие с куратором группы
A9: ГБПОУ ПУ № 13 имени дважды Героя Социалистического Труда В.И.Штепо | B9: 15.01.05 Сварщик (ручной и частично механизированной сварки (наплавки) | C9: 46 | D9: 0 | E9: 0 | F9: 13 | G9: 4 | H9: 4 | I9: 5 | J9: 0 | K9: 0 | L9: 0 | M9: 0 | N9: 0 | O9: 31 | P9: 0 | Q9: 0 | R9: 0 | S9: 0 | T9: 0 | U9: 0 | V9: 0 | W9: 0 | X9: 0 | Y9: 0 | Z9: 2 | AA9: Сельское хозяйство | AB9: Взаимодействие с куратором группы
A10: ГБПОУ ПУ № 13 имени дважды Героя Социалистического Труда В.И.Штепо | B10: 35.01.13 Тракторист-машинист сельскохозяйственного производства | C10: =SUM('1. Форма сбора'!$F10,'1. Форма сбора'!$J10,'1. Форма сбора'!$N10:$AB10) -> 20 | D10: 0 | E10: 0 | F10: 8 | G10: 3 | H10: 1 | I10: 4 | J10: 0 | K10: 0 | L10: 0 | M10: 0 | N10: 0 | O10: 12 | P10: 0 | Q10: 0 | R10: 0 | S10: 0 | T10: 0 | U10: 0 | V10: 0 | W10: 0 | X10: 0 | Y10: 0 | Z10: 0 | AB10: Взаимодействие с куратором группы
A11: ГБПОУ ПУ № 13 имени дважды Героя Социалистического Труда В.И.Штепо | B11: 35.01.26 Мастер растениеводства | C11: 19 | D11: 0 | E11: 0 | F11: 16 | G11: 2 | H11: 8 | I11: 2 | J11: 0 | K11: 0 | L11: 0 | M11: 0 | N11: 0 | O11: 0 | P11: 0 | Q11: 0 | R11: 1 | S11: 0 | T11: 0 | U11: 0 | V11: 0 | W11: 0 | X11: 0 | Y11: 0 | Z11: 2 | AA11: Сфера услуг | AB11: Проведение информационно-разъяснительной работы
A12: ГБПОУ ПУ № 13 имени дважды Героя Социалистического Труда В.И.Штепо | B12: 35.01.27 Мастер сельскохозяйственного производства | C12: 23 | D12: 0 | E12: 0 | F12: 6 | G12: 3 | H12: 2 | I12: 0 | J12: 0 | K12: 0 | L12: 0 | M12: 0 | N12: 0 | O12: 17 | P12: 0 | Q12: 0 | R12: 0 | S12: 0 | T12: 0 | U12: 0 | V12: 0 | W12: 0 | X12: 0 | Y12: 0 | Z12: 0 | AB12: Взаимодействие с куратором группы

Sheet 2. Нозологии
A1: КОД ПОО + КОД (заполняется автоматически при внесении данных в гр. ПОО и гр. 2) | B1: Наименование ПОО | C1: Код и наименование профессии, специальности | D1: Уникальный номер выпускника (определяется ПОО самостоятельно, не может содержать ФИО) | E1: Статус выпускника | F1: Нозологии (нарушения) | G1: Имеет договор о целевом обучении | H1: Выпускник обучался по программе "Профессионалитета" | I1: Распределение выпускников по каналам занятости и иным видам деятельности
A2: КОД | B2: ПОО | C2: 1 | D2: 2 | E2: 3 | F2: 4 | G2: 5 | H2: 6 | I2: 7
A3: {=CONCATENATE(XLOOKUP(B3,'Выпадающие списки'!B:B,'Выпадающие списки'!A:A),"-",'2. Нозологии'!$D3)} -> #NAME?
A4: {=CONCATENATE(XLOOKUP(B4,'Выпадающие списки'!B:B,'Выпадающие списки'!A:A),"-",'2. Нозологии'!$D4)} -> #NAME?
A5: {=CONCATENATE(XLOOKUP(B5,'Выпадающие списки'!B:B,'Выпадающие списки'!A:A),"-",'2. Нозологии'!$D5)} -> #NAME?
A6: {=CONCATENATE(XLOOKUP(B6,'Выпадающие списки'!B:B,'Выпадающие списки'!A:A),"-",'2. Нозологии'!$D6)} -> #NAME?
A7: {=CONCATENATE(XLOOKUP(B7,'Выпадающие списки'!B:B,'Выпадающие списки'!A:A),"-",'2. Нозологии'!$D7)} -> #NAME?
A8: {=CONCATENATE(XLOOKUP(B8,'Выпадающие списки'!B:B,'Выпадающие списки'!A:A),"-",'2. Нозологии'!$D8)} -> #NAME?
A9: {=CONCATENATE(XLOOKUP(B9,'Выпадающие списки'!B:B,'Выпадающие списки'!A:A),"-",'2. Нозологии'!$D9)} -> #NAME?
A10: {=CONCATENATE(XLOOKUP(B10,'Выпадающие списки'!B:B,'Выпадающие списки'!A:A),"-",'2. Нозологии'!$D10)} -> #NAME?
A11: {=CONCATENATE(XLOOKUP(B11,'Выпадающие списки'!B:B,'Выпадающие списки'!A:A),"-",'2. Нозологии'!$D11)} -> #NAME?
A12: {=CONCATENATE(XLOOKUP(B12,'Выпадающие списки'!B:B,'Выпадающие списки'!A:A),"-",'2. Нозологии'!$D12)} -> #NAME?
A13: {=CONCATENATE(XLOOKUP(B13,'Выпадающие списки'!B:B,'Выпадающие списки'!A:A),"-",'2. Нозологии'!$D13)} -> #NAME?
A14: {=CONCATENATE(XLOOKUP(B14,'Выпадающие списки'!B:B,'Выпадающие списки'!A:A),"-",'2. Нозологии'!$D14)} -> #NAME?
... A159: {=CONCATENATE(XLOOKUP(B159,'Выпадающие списки'!B:B,'Выпадающие списки'!A:A),"-",'2. Нозологии'!$D159)} -> #NAME?

Sheet 3. Целевики
A1: КОД ПОО + КОД(заполняется автоматически) | B1: Наименование ПОО | C1: Код и наименование профессии, специальности | D1: Уникальный номер выпускника (определяется ПОО самостоятельно, не может содержать ФИО) | E1: Выпускник обучался по программе "Профессионалитета" | F1: Наименование работодателя, заключившего договор о целевом обучении | G1: ИНН работодателя, заключившего договор о целевом обучении | H1: Целевой договор расторгнут или действует | I1: Договор о целевом обучении действует, либо приостановлен | J1: По чьей инициативе расторгнут целевой договор, последствия расторжения | K1: Причины расторжения договора о целевом обучении | L1: Распределение выпускника по каналам занятости после расторжения договора о целевом обучении
A2: КОД | B2: ПОО | C2: 1 | D2: 2 | E2: 3 | F2: 4 | G2: 5 | H2: 6 | I2: 7 | J2: 8 | K2: 9 | L2: 10
A3: {=CONCATENATE(XLOOKUP(B3,'Выпадающие списки'!B:B,'Выпадающие списки'!A:A),"-",'3. Целевики'!$D3)} -> #NAME?
A4: {=CONCATENATE(XLOOKUP(B4,'Выпадающие списки'!B:B,'Выпадающие списки'!A:A),"-",'3. Целевики'!$D4)} -> #NAME?
A5: {=CONCATENATE(XLOOKUP(B5,'Выпадающие списки'!B:B,'Выпадающие списки'!A:A),"-",'3. Целевики'!$D5)} -> #NAME?
A6: {=CONCATENATE(XLOOKUP(B6,'Выпадающие списки'!B:B,'Выпадающие списки'!A:A),"-",'3. Целевики'!$D6)} -> #NAME?
A7: {=CONCATENATE(XLOOKUP(B7,'Выпадающие списки'!B:B,'Выпадающие списки'!A:A),"-",'3. Целевики'!$D7)} -> #NAME?
A8: {=CONCATENATE(XLOOKUP(B8,'Выпадающие списки'!B:B,'Выпадающие списки'!A:A),"-",'3. Целевики'!$D8)} -> #NAME?
A9: {=CONCATENATE(XLOOKUP(B9,'Выпадающие списки'!B:B,'Выпадающие списки'!A:A),"-",'3. Целевики'!$D9)} -> #NAME?
A10: {=CONCATENATE(XLOOKUP(B10,'Выпадающие списки'!B:B,'Выпадающие списки'!A:A),"-",'3. Целевики'!$D10)} -> #NAME?
A11: {=CONCATENATE(XLOOKUP(B11,'Выпадающие списки'!B:B,'Выпадающие списки'!A:A),"-",'3. Целевики'!$D11)} -> #NAME?
A12: {=CONCATENATE(XLOOKUP(B12,'Выпадающие списки'!B:B,'Выпадающие списки'!A:A),"-",'3. Целевики'!$D12)} -> #NAME?
A13: {=CONCATENATE(XLOOKUP(B13,'Выпадающие списки'!B:B,'Выпадающие списки'!A:A),"-",'3. Целевики'!$D13)} -> #NAME?
A14: {=CONCATENATE(XLOOKUP(B14,'Выпадающие списки'!B:B,'Выпадающие списки'!A:A),"-",'3. Целевики'!$D14)} -> #NAME?
... A360: {=CONCATENATE(XLOOKUP(B360,'Выпадающие списки'!B:B,'Выпадающие списки'!A:A),"-",'3. Целевики'!$D360)} -> #NAME?

Sheet Статус_сдачи_отчета
A1: Наименование ОО | B1: Статус сдачи отчета
A2: АНПОО Академический колледж | B2: {=IF(COUNTIF('1. Форма сбора'!$A$4:$A$733,Статус_сдачи_отчета!$A$2:$A$73)>0,"Отчет представлен","Отчет не предоставлен")} -> Отчет не предоставлен | C2: =IF(ISNA(MATCH(A2,#REF!,0)),"Нет в списке","Есть в списке") -> Есть в списке | D2: {=XLOOKUP(A2,'3. Целевики'!$B$3:$B$360,'3. Целевики'!B3:B360,"нет")} -> #NAME? | F2: {=XLOOKUP(A2,'1. Форма сбора'!A:A,'1. Форма сбора'!B:C)} -> #NAME?
A3: АНПОО Камышинский колледж бизнеса | B3: {=IF(COUNTIF('1. Форма сбора'!$A$4:$A$733,Статус_сдачи_отчета!$A$2:$A$73)>0,"Отчет представлен","Отчет не предоставлен")} -> Отчет не предоставлен | C3: =IF(ISNA(MATCH(A3,#REF!,0)),"Нет в списке","Есть в списке") -> Есть в списке | D3: {=XLOOKUP(A3,'3. Целевики'!$B$3:$B$360,'3. Целевики'!B4:B240,"нет")} -> #NAME? | E3: {=VLOOKUP(A2,#REF!,{1,2,3})} -> #REF!
A4: АНПОО Котельниковский колледж бизнеса | B4: {=IF(COUNTIF('1. Форма сбора'!$A$4:$A$733,Статус_сдачи_отчета!$A$2:$A$73)>0,"Отчет представлен","Отчет не предоставлен")} -> Отчет не предоставлен | C4: =IF(ISNA(MATCH(A4,#REF!,0)),"Нет в списке","Есть в списке") -> Есть в списке | D4: {=XLOOKUP(A4,'3. Целевики'!$B$3:$B$360,'3. Целевики'!B5:B241,"нет")} -> #NAME? | F4: {=XLOOKUP(A2,A2,B2)} -> #NAME?
A5: АНПОО Юридический колледж | B5: {=IF(COUNTIF('1. Форма сбора'!$A$4:$A$733,Статус_сдачи_отчета!$A$2:$A$73)>0,"Отчет представлен","Отчет не предоставлен")} -> Отчет не предоставлен | C5: =IF(ISNA(MATCH(A5,#REF!,0)),"Нет в списке","Есть в списке") -> Есть в списке | D5: {=XLOOKUP(A5,'3. Целевики'!$B$3:$B$360,'3. Целевики'!B6:B242,"нет")} -> #NAME? | F5: {=XLOOKUP(A2,'Выпадающие списки'!B:B,'Выпадающие списки'!A:A)} -> #NAME?
A6: АНПОО Суровикинский колледж бизнеса | B6: {=IF(COUNTIF('1. Форма сбора'!$A$4:$A$733,Статус_сдачи_отчета!$A$2:$A$73)>0,"Отчет представлен","Отчет не предоставлен")} -> Отчет не предоставлен | C6: =IF(ISNA(MATCH(A6,#REF!,0)),"Нет в списке","Есть в списке") -> Есть в списке | D6: {=XLOOKUP(A6,'3. Целевики'!$B$3:$B$360,'3. Целевики'!B7:B243,"нет")} -> #NAME?
A7: АНПОО Урюпинский колледж бизнеса | B7: {=IF(COUNTIF('1. Форма сбора'!$A$4:$A$733,Статус_сдачи_отчета!$A$2:$A$73)>0,"Отчет представлен","Отчет не предоставлен")} -> Отчет не предоставлен | C7: =IF(ISNA(MATCH(A7,#REF!,0)),"Нет в списке","Есть в списке") -> Есть в списке | D7: {=XLOOKUP(A7,'3. Целевики'!$B$3:$B$360,'3. Целевики'!B8:B244,"нет")} -> #NAME?
A8: АНПОО Фроловский колледж бизнеса | B8: {=IF(COUNTIF('1. Форма сбора'!$A$4:$A$733,Статус_сдачи_отчета!$A$2:$A$73)>0,"Отчет представлен","Отчет не предоставлен")} -> Отчет не предоставлен | C8: =IF(ISNA(MATCH(A8,#REF!,0)),"Нет в списке","Есть в списке") -> Есть в списке | D8: {=XLOOKUP(A8,'3. Целевики'!$B$3:$B$360,'3. Целевики'!B9:B245,"нет")} -> #NAME?
A9: Волгоградский колледж Международного юридического института | B9: {=IF(COUNTIF('1. Форма сбора'!$A$4:$A$733,Статус_сдачи_отчета!$A$2:$A$73)>0,"Отчет представлен","Отчет не предоставлен")} -> Отчет не предоставлен | C9: =IF(ISNA(MATCH(A9,#REF!,0)),"Нет в списке","Есть в списке") -> Есть в списке | D9: {=XLOOKUP(A9,'3. Целевики'!$B$3:$B$360,'3. Целевики'!B10:B246,"нет")} -> #NAME?
A10: Волгоградский кооперативный институт (филиал) автономной некоммерческой образовательной организации высшего образования Центросоюза Российской Федерации "Российский университет кооперации" | B10: {=IF(COUNTIF('1. Форма сбора'!$A$4:$A$733,Статус_сдачи_отчета!$A$2:$A$73)>0,"Отчет представлен","Отчет не предоставлен")} -> Отчет не предоставлен | C10: =IF(ISNA(MATCH(A10,#REF!,0)),"Нет в списке","Есть в списке") -> Есть в списке | D10: {=XLOOKUP(A10,'3. Целевики'!$B$3:$B$360,'3. Целевики'!B11:B247,"нет")} -> #NAME?
A11: Волгоградский техникум железнодорожного транспорта - филиал ФГБОУ ВО Ростовский государственный университет путей сообщения | B11: {=IF(COUNTIF('1. Форма сбора'!$A$4:$A$733,Статус_сдачи_отчета!$A$2:$A$73)>0,"Отчет представлен","Отчет не предоставлен")} -> Отчет не предоставлен | C11: =IF(ISNA(MATCH(A11,#REF!,0)),"Нет в списке","Есть в списке") -> Есть в списке | D11: {=XLOOKUP(A11,'3. Целевики'!$B$3:$B$360,'3. Целевики'!B12:B248,"нет")} -> #NAME?
A12: Волгоградский филиал Аккредитованного образовательного частного учреждения высшего образования Московский финансово-юридический университет МФЮА | B12: {=IF(COUNTIF('1. Форма сбора'!$A$4:$A$733,Статус_сдачи_отчета!$A$2:$A$73)>0,"Отчет представлен","Отчет не предоставлен")} -> Отчет не предоставлен | C12: =IF(ISNA(MATCH(A12,#REF!,0)),"Нет в списке","Есть в списке") -> Есть в списке | D12: {=XLOOKUP(A12,'3. Целевики'!$B$3:$B$360,'3. Целевики'!B13:B249,"нет")} -> #NAME?
A13: Волгоградский филиал РЭУ им. Г.В. Плеханова | B13: {=IF(COUNTIF('1. Форма сбора'!$A$4:$A$733,Статус_сдачи_отчета!$A$2:$A$73)>0,"Отчет представлен","Отчет не предоставлен")} -> Отчет не предоставлен | C13: =IF(ISNA(MATCH(A13,#REF!,0)),"Нет в списке","Есть в списке") -> Есть в списке | D13: {=XLOOKUP(A13,'3. Целевики'!$B$3:$B$360,'3. Целевики'!B14:B250,"нет")} -> #NAME?
A14: Волгоградский филиал ФГБОУ инклюзивного высшего образования "Российский государственный университет социальных технологий" | B14: {=IF(COUNTIF('1. Форма сбора'!$A$4:$A$733,Статус_сдачи_отчета!$A$2:$A$73)>0,"Отчет представлен","Отчет не предоставлен")} -> Отчет не предоставлен | C14: =IF(ISNA(MATCH(A14,#REF!,0)),"Нет в списке","Есть в списке") -> Есть в списке | D14: {=XLOOKUP(A14,'3. Целевики'!$B$3:$B$360,'3. Целевики'!B15:B251,"нет")} -> #NAME?
A15: Волжский филиал ГАПОУ Волгоградский медико-экологический техникум | B15: {=IF(COUNTIF('1. Форма сбора'!$A$4:$A$733,Статус_сдачи_отчета!$A$2:$A$73)>0,"Отчет представлен","Отчет не предоставлен")} -> Отчет не предоставлен | C15: =IF(ISNA(MATCH(A15,#REF!,0)),"Нет в списке","Есть в списке") -> Есть в списке | D15: {=XLOOKUP(A15,'3. Целевики'!$B$3:$B$360,'3. Целевики'!B16:B252,"нет")} -> #NAME?
A16: Волжский филиал ГАПОУ Волгоградский медицинский колледж | B16: {=IF(COUNTIF('1. Форма сбора'!$A$4:$A$733,Статус_сдачи_отчета!$A$2:$A$73)>0,"Отчет представлен","Отчет не предоставлен")} -> Отчет не предоставлен | C16: =IF(ISNA(MATCH(A16,#REF!,0)),"Нет в списке","Есть в списке") -> Есть в списке | D16: {=XLOOKUP(A16,'3. Целевики'!$B$3:$B$360,'3. Целевики'!B17:B253,"нет")} -> #NAME?
A17: Волжский филиал ОЧУ ВО Международный юридический институт | B17: {=IF(COUNTIF('1. Форма сбора'!$A$4:$A$733,Статус_сдачи_отчета!$A$2:$A$73)>0,"Отчет представлен","Отчет не предоставлен")} -> Отчет не предоставлен | C17: =IF(ISNA(MATCH(A17,#REF!,0)),"Нет в списке","Есть в списке") -> Есть в списке | D17: {=XLOOKUP(A17,'3. Целевики'!$B$3:$B$360,'3. Целевики'!B18:B254,"нет")} -> #NAME?
... A73: ЧПОУ Газпром колледж Волгоград | B73: {=IF(COUNTIF('1. Форма сбора'!$A$4:$A$733,Статус_сдачи_отчета!$A$2:$A$73)>0,"Отчет представлен","Отчет не предоставлен")} -> Отчет не предоставлен | C73: =IF(ISNA(MATCH(A73,#REF!,0)),"Нет в списке","Есть в списке") -> Есть в списке | D73: {=XLOOKUP(A73,'3. Целевики'!$B$3:$B$360,'3. Целевики'!B74:B310,"нет")} -> #NAME?

Sheet Статус_сверки
A1: Наименование ОО | B1: Статус сдачи отчета
A2: АНПОО Академический колледж | B2: Отчет НЕ представлен ПОО
A3: АНПОО Камышинский колледж бизнеса | B3: Отчет НЕ представлен ПОО
A4: АНПОО Котельниковский колледж бизнеса | B4: Отчет НЕ представлен ПОО
A5: АНПОО Юридический колледж | B5: Отчет НЕ представлен ПОО
A6: АНПОО Суровикинский колледж бизнеса | B6: Отчет НЕ представлен ПОО
A7: АНПОО Урюпинский колледж бизнеса | B7: Отчет НЕ представлен ПОО
A8: АНПОО Фроловский колледж бизнеса | B8: Отчет НЕ представлен ПОО
A9: Волгоградский колледж Международного юридического института | B9: Отчет НЕ представлен ПОО
A10: Волгоградский кооперативный институт (филиал) автономной некоммерческой образовательной организации высшего образования Центросоюза Российской Федерации "Российский университет кооперации" | B10: Отчет НЕ представлен ПОО
A11: Волгоградский техникум железнодорожного транспорта - филиал ФГБОУ ВО Ростовский государственный университет путей сообщения | B11: Отчет НЕ представлен ПОО
A12: Волгоградский филиал Аккредитованного образовательного частного учреждения высшего образования Московский финансово-юридический университет МФЮА | B12: Отчет НЕ представлен ПОО
... A27: ГБПОУ Арчединский лесной колледж | B27: Отчет НЕ представлен ПОО
A28: ГБПОУ Быковский аграрный техникум | B28: Отчет НЕ представлен ПОО | C28: +
A29: ГБПОУ Волгоградский индустриальный техникум | B29: Отчет НЕ представлен ПОО
A30: ГБПОУ Волгоградский колледж машиностроения и связи | B30: Отчет НЕ представлен ПОО
A31: ГБПОУ Волгоградский колледж ресторанного сервиса и торговли | B31: Отчет НЕ представлен ПОО
A32: ГБПОУ Волгоградский колледж управления и новых технологий имени Ю.Гагарина | B32: Отчет НЕ представлен ПОО
A33: ГБПОУ Волгоградский политехнический колледж имени В.И. Вернадского | B33: Отчет НЕ представлен ПОО
A34: ГБПОУ Волгоградский профессиональный техникум кадровых ресурсов | B34: Отчет НЕ представлен ПОО
A35: ГБПОУ Волгоградский строительный техникум | B35: Отчет НЕ представлен ПОО
A36: ГБПОУ Волгоградский техникум водного транспорта имени адмирала флота Н. Д. Сергеева | B36: Отчет НЕ представлен ПОО
A37: ГБПОУ Волгоградский технический колледж | B37: Отчет НЕ представлен ПОО
A38: ГБПОУ Волгоградский технологический колледж | B38: Отчет НЕ представлен ПОО
A39: ГБПОУ Волгоградский энергетический колледж | B39: Отчет НЕ представлен ПОО
A40: ГБПОУ Волжский политехнический техникум | B40: Отчет НЕ представлен ПОО
... A44: ГБПОУ Жирновский педагогический колледж | B44: Отчет НЕ представлен ПОО
A45: ГБПОУ Камышинский индустриально-педагогический колледж имени Героя Советского Союза им.А.П.Маресьева | B45: Отчет НЕ представлен ПОО | C45: +
A46: ГБПОУ Котовский промышленно-экономический техникум | B46: Отчет НЕ представлен ПОО
A47: ГБПОУ Ленинский агропромышленный техникум | B47: Отчет НЕ представлен ПОО
A48: ГБПОУ Михайловский профессионально-педагогический колледж имени В.В. Арнаутова | B48: Отчет НЕ представлен ПОО
A49: ГБПОУ Новоаннинский сельскохозяйственный колледж | B49: Отчет НЕ представлен ПОО
A50: ГБПОУ Палласовский сельскохозяйственный техникум | B50: Отчет НЕ представлен ПОО
A51: ГБПОУ Профессиональное училище № 50 филиал в Средней ахтубе Технического колледжа | B51: Отчет НЕ представлен ПОО
A52: ГБПОУ Профессиональное училище №44 | B52: Отчет НЕ представлен ПОО
A53: ГБПОУ Профессиональное училище №45 | B53: Отчет НЕ представлен ПОО
A54: ГБПОУ Профессиональное училище №49 | B54: Отчет НЕ представлен ПОО
A55: ГБПОУ ПУ № 13 имени дважды Героя Социалистического Труда В.И.Штепо | B55: Отчет НЕ представлен ПОО
A56: ГБПОУ Себряковский технологический техникум | B56: Отчет НЕ представлен ПОО
A57: ГБПОУ Серафимовичский техникум механизации сельского хозяйства | B57: Отчет НЕ представлен ПОО
...

Sheet Выпадающие списки
A1: Код ПОО | B1: Наименование ПОО | C1: Код и наименование профессии, специальности | D1: Гр 0 | E1: Лист 1 гр 18 | F1: Лист 2 гр 3 | G1: Лист 2 гр 4 | H1: Лист 2 гр 7 | I1: Лист 2 гр 5,6 Лист 3 гр 3 | J1: Лист 3 гр 6 | K1: Лист 3 гр 7 | L1: Лист 3 гр 8 | M1: Лист 3 гр 9 | N1: Лист 3 гр 10 | O1: Статус отчета | P1: гр. 172
A2: ВО-01 | B2: АНПОО Академический колледж | C2: 05.01.01 Гидрометнаблюдатель | D2: Строку необходимо удалить из отчета | E2: Взаимодействие с куратором группы | F2: выпускник из числа лиц с ОВЗ | G2: зрение | H2: трудоустроен по полученной профессии, специальности | I2: да | J2: действует | K2: трудоустроен у работодателя, с которым заключен целевой договор | L2: расторгнут по инициативе выпускника с возмещением заказчику расходов на меры поддержки | M2: отказ выпускника от трудоустройства в связи с низким уровнем заработной платы | N2: трудоустроен у иного работодателя | O2: Отчет представлен ПОО | P2: Технические науки
A3: ВО-02 | B3: АНПОО Камышинский колледж бизнеса | C3: 05.02.01 Картография | E3: Информирование об имеющихся вакансиях | F3: выпускник инвалид, ребенок-инвалид | G3: слух | H3: трудоустроен НЕ по полученной профессии, специальности | I3: нет | J3: расторгнут | K3: будет трудоустроен у работодателя, с которым заключен целевой договор | L3: расторгнут по инициативе выпускника (освобождение от ответственности за неисполнение обязательств по договору) | M3: отказ выпускника от трудоустройства в связи с переездом, удаленностью места работы | N3: будет трудоустроен у иного работодателя | O3: Отчет НЕ представлен ПОО | P3: Экономика и право
A4: ВО-03 | B4: АНПОО Котельниковский колледж бизнеса | C4: 05.02.02 Гидрология | E4: Консультации | F4: выпускник из числа лиц с ОВЗ и инвалид, ребенок-инвалид | G4: опорно-двигательный аппарат | H4: будет трудоустроен по полученной профессии, специальности | K4: договор приостановлен (пролонгирован): продолжает обучение по согласованию с работодателем, заключившим договор о целевом обучении | L4: расторгнут по инициативе работодателя с выплатой компенсации | M4: отказ работодателя от трудоустройства в связи с неудовлетворенностью знаниями, умениями, навыками и компетенциями выпускника | N4: продолжает обучение | P4: Сфера услуг
A5: ВО-04 | B5: АНПОО Юридический колледж | C5: 05.02.03 Метеорология | E5: Направление в ЦЗН | G5: тяжелые нарушения речи | H5: будет трудоустроен НЕ по полученной профессии, специальности | K5: договор приостановлен (пролонгирован): призван (будет призван) в Вооруженные Силы РФ | L5: расторгнут по инициативе работодателя (освобождение от ответственности за неисполнение обязательств по договору) | M5: отказ работодателя от трудоустройства в связи с отсутствием вакансий/сокращением штата предприятия | N5: призван (будет призван) в Вооруженные Силы РФ | P5: Искусство и культура
A6: ВО-05 | B6: АНПОО Суровикинский колледж бизнеса | C6: 07.02.01 Архитектура | E6: Проведение информационно-разъяснительной работы | G6: задержка психического развития | H6: продолжит обучение и не трудоустроился (не планирует трудоустройство, предпринимательство) | K6: договор приостановлен (пролонгирован): находится (будет находиться) в отпуске по уходу за ребенком | L6: расторгнут по соглашению сторон или по независящим от сторон обстоятельствам | M6: отказ работодателя от трудоустройства и выполнения условий договора (по иным причинам) | N6: находятся (будут находиться) в отпуске по уходу за ребенком | P6: Здравоохранение
A7: ВО-06 | B7: АНПОО Урюпинский колледж бизнеса | C7: 08.01.01 Изготовитель арматурных сеток и каркасов | E7: Проведение социально-психологических тренингов | G7: расстройство аутистического спектра | H7: призван (будет призван) в Вооруженные Силы РФ | K7: договор приостановлен (пролонгирован): здоровье, требующее лечения, не позволяющее осуществлять трудовую деятельность | M7: по независящим причинам: выпускник находится под следствием, отбывает наказание | N7: индивидуальный предприниматель | P7: Образование и физическая культура
A8: ВО-07 | B8: АНПОО Фроловский колледж бизнеса | C8: 08.01.02 Монтажник трубопроводов | E8: Экскурсии на предприятия | G8: инвалидность вследствие других причин | H8: находится (будет находиться) в отпуске по уходу за ребенком | M8: по независящим причинам: выпускник осуществляет постоянный уход за ближайшим родственником | N8: самозанятый | P8: Реклама, делопроизводство, социальная работа
A9: ВО-08 | B9: Волгоградский колледж Международного юридического института | C9: 08.01.04 Кровельщик | H9: зарегистрирован (планирует зарегистрироваться) в качестве индивидуального предпринимателя | M9: по независящим причинам: супруг/супруга выпускника - военнослужащий, проходит службу на другой территории | N9: не может трудоустроиться: находится под следствием, отбывает наказание | P9: Сельское хозяйство
A10: ВО-09 | B10: Волгоградский кооперативный институт (филиал) автономной некоммерческой образовательной организации высшего образования Центросоюза Российской Федерации "Российский университет кооперации" | C10: 08.01.05 Мастер столярно-плотничных и паркетных работ | H10: оформил (планирует оформить) самозанятость | M10: по независящим причинам: выпускнику присвоена инвалидность 1 или 2 группы | N10: не может трудоустроиться: ухаживает за больными родственниками, иные семейные обстоятельства
A11: ВО-10 | B11: Волгоградский техникум железнодорожного транспорта - филиал ФГБОУ ВО Ростовский государственный университет путей сообщения | C11: 08.01.06 Мастер сухого строительства | H11: находится под следствием, отбывает наказание | M11: по независящим причинам: несоблюдение требований законодательства к работникам (медицинские противопоказания, судимость, отказ в допуске к государственной тайне, не прошел аккредитацию специалиста и др.). | N11: не может трудоустроиться: смерть выпускника, тяжелое состояние здоровья
A12: ВО-11 | B12: Волгоградский филиал Аккредитованного образовательного частного учреждения высшего образования Московский финансово-юридический университет МФЮА | C12: 08.01.07 Мастер общестроительных работ | H12: ухаживает за больными родственниками (иные семейные обстоятельства) | M12: по независящим причинам: смерть выпускника, тяжелое состояние здоровья | N12: не имеет мотивации к ведению трудовой деятельности и не планирует трудоустраиваться
A13: ВО-12 | B13: Волгоградский филиал РЭУ им. Г.В. Плеханова | C13: 08.01.08 Мастер отделочных строительных работ | H13: переехал (планирует переезд) за пределы Российской Федерации | N13: переехал (планирует переезд) за пределы РФ
A14: ВО-13 | B14: Волгоградский филиал ФГБОУ инклюзивного высшего образования "Российский государственный университет социальных технологий" | C14: 08.01.09 Слесарь по строительно-монтажным работам | H14: тяжелое состояние здоровья, не позволяющее трудоустраиваться; смерть | N14: неофициально трудоустроен
A15: ВО-14 | B15: Волжский филиал ГАПОУ Волгоградский медико-экологический техникум | C15: 08.01.10 Мастер жилищно-коммунального хозяйства | H15: зарегистрирован в центрах занятости в качестве безработного (получает пособие по безработице) | N15: отсутствует спрос на специалистов в регионе, находится в поиске работы
A16: ВО-15 | B16: Волжский филиал ГАПОУ Волгоградский медицинский колледж | C16: 08.01.11 Машинист машин и оборудования в производстве цемента | H16: не имеет мотивацию к трудоустройству и не планирует трудоустраиваться, в том числе по причинам получения иных социальных льгот | N16: зарегистрирован в центрах занятости в качестве безработного (получает пособие по безработице)
A17: ВО-16 | B17: Волжский филиал ОЧУ ВО Международный юридический институт | C17: 08.01.13 Изготовитель железобетонных изделий | H17: отсутствует спрос на специалистов в регионе, находится в поиске работы | N17: не планирует трудоустраиваться, в том числе по причинам получения иных социальных льгот
A18: ВО-17 | B18: Волжский филиал ФГАОУ Волгоградский государственный университет | C18: 08.01.14 Монтажник санитарно-технических, вентиляционных систем и оборудования | H18: теневая занятость
A19: ВО-18 | B19: ГАПОУ Волгоградский социально-педагогический колледж | C19: 08.01.15 Слесарь по изготовлению деталей и узлов технических систем в строительстве
A20: ВО-19 | B20: ГАПОУ ВО УОР имени дважды Героя Советского Союза А.И. Родимцева | C20: 08.01.16 Электромонтажник по сигнализации, централизации и блокировке
A21: ВО-20 | B21: ГАПОУ Волгоградский медико-экологический техникум | C21: 08.01.17 Электромонтажник-наладчик
A22: ВО-21 | B22: ГАПОУ Волгоградский медицинский колледж | C22: 08.01.18 Электромонтажник электрических сетей и электрооборудования
A23: ВО-22 | B23: ГАПОУ Волгоградский техникум железнодорожного транспорта и коммуникаций | C23: 08.01.19 Электромонтажник по силовым сетям и электрооборудованию
A24: ВО-23 | B24: ГАПОУ Еланский аграрный колледж | C24: 08.01.21 Монтажник электрических подъемников (лифтов)
A25: ВО-24 | B25: ГАПОУ Камышинский политехнический колледж | C25: 08.01.22 Мастер путевых машин
A26: ВО-25 | B26: ГБОУ ВО Волжский институт экономики, педагогики и права | C26: 08.01.23 Бригадир-путеец
A27: ВО-26 | B27: ГБПОУ Арчединский лесной колледж | C27: 08.01.24 Мастер столярно-плотничных, паркетных и стекольных работ
A28: ВО-27 | B28: ГБПОУ Быковский аграрный техникум | C28: 08.01.25 Мастер отделочных строительных и декоративных работ
A29: ВО-28 | B29: ГБПОУ Волгоградский индустриальный техникум | C29: 08.01.26 Мастер по ремонту и обслуживанию инженерных систем жилищно-коммунального хозяйства
A30: ВО-29 | B30: ГБПОУ Волгоградский колледж машиностроения и связи | C30: 08.01.27 Мастер общестроительных работ
... A73: ВО-72 | B73: ЧПОУ Газпром колледж Волгоград | C73: 10.02.04 Обеспечение информационной безопасности телекоммуникационных систем
C74: 10.02.05 Обеспечение информационной безопасности автоматизированных систем
C75: 11.01.01 Монтажник радиоэлектронной аппаратуры и приборов
C76: 11.01.02 Радиомеханик
C77: 11.01.05 Монтажник связи
C78: 11.01.06 Электромонтер оборудования электросвязи и проводного вещания
C79: 11.01.07 Электромонтер по ремонту линейно-кабельных сооружений телефонной связи и проводного вещания
C80: 11.01.08 Оператор почтовой связи
C81: 11.01.08 Оператор связи
C82: 11.01.11 Наладчик технологического оборудования (электронная техника)
...

Sheet Отрасли по Кодам
A1: Здравоохранение | B1: 31;32;33;34
A2: Искусство и культура | B2: 50;51;52;53;54;55
A3: Образование и физическая культура | B3: 44;49
A4: Реклама, делопроизводство, социальная работа | B4: 42;46;39
A5: Сельское хозяйство | B5: 35;36
A6: Сфера услуг | B6: 43
A7: Технические науки | B7: 7;8;9;10;11;13;15;18;19;20;21;22;23;25;26;27;29
A8: Экономика и право | B8: 38;40

Sheet По отраслям
A2: Отраслевая принадлежнасть выпускаемой специальности | B2: Сумарный выпуск 2024 | C2: Трудоустроенны | D2: Будут трудоустроены (прогноз на 3 месяца) | E2: Продолжат обучение и не трудоустроились | F2: Призваны (будут призваны) в Вооруженные Силы РФ | G2: Находятся в отпуске по уходу за ребенком | H2: Зарегистрированы в качестве индивидуального предпринимателя | I2: Оформили самозанятость | J2: Находятся под следствием, отбывают наказание | K2: Ухаживают за больными родственниками (иные семейные обстоятельства) | L2: Переехали (планируют переезд) за пределы Российской Федерации | M2: Тяжелое состояние здоровья, не позволяющее трудоустраиваться; смерть | N2: Зарегистрированы в центрах занятости в качестве безработных (получают пособие по безработице) | O2: Не имеют мотивации к трудоустройству и не планируют трудоустраиваться, в том числе по причинам получения иных социальных льгот | P2: Отсутствует спрос на специалистов в регионе, находятся в поиске работы | Q2: Теневая занятость
A3: Названия строк | B3: Сумма по полю 2 | C3: Сумма по полю 3 | D3: Сумма по полю 4 | E3: Сумма по полю 5 | F3: Сумма по полю 6 | G3: Сумма по полю 7 | H3: Сумма по полю 8 | I3: Сумма по полю 9 | J3: Сумма по полю 10 | K3: Сумма по полю 11 | L3: Сумма по полю 12 | M3: Сумма по полю 13 | N3: Сумма по полю 14 | O3: Сумма по полю 15 | P3: Сумма по полю 16 | Q3: Сумма по полю 17
A4: Здравоохранение | B4: 3106 | C4: 1950 | D4: 773 | E4: 227 | F4: 53 | G4: 59 | H4: 3 | I4: 17 | J4: 0 | K4: 0 | L4: 3 | M4: 0 | N4: 0 | O4: 0 | P4: 0 | Q4: 21
A5: Искусство и культура | B5: 277 | C5: 121 | D5: 30 | E5: 89 | F5: 7 | G5: 3 | H5: 11 | I5: 5 | J5: 0 | K5: 0 | L5: 0 | M5: 1 | N5: 0 | O5: 0 | P5: 9 | Q5: 1
A6: Образование и физическая культура | B6: 798 | C6: 541 | D6: 95 | E6: 96 | F6: 44 | G6: 16 | H6: 2 | I6: 3 | J6: 0 | K6: 0 | L6: 0 | M6: 0 | N6: 0 | O6: 1 | P6: 0 | Q6: 0
A7: Реклама, делопроизводство, социальная работа | B7: 195 | C7: 131 | D7: 8 | E7: 22 | F7: 14 | G7: 9 | H7: 4 | I7: 4 | J7: 0 | K7: 2 | L7: 0 | M7: 1 | N7: 0 | O7: 0 | P7: 0 | Q7: 0
A8: Сельское хозяйство | B8: 1945 | C8: 805 | D8: 98 | E8: 274 | F8: 642 | G8: 31 | H8: 7 | I8: 38 | J8: 1 | K8: 2 | L8: 1 | M8: 3 | N8: 0 | O8: 9 | P8: 0 | Q8: 34
A9: Сфера услуг | B9: 708 | C9: 428 | D9: 47 | E9: 75 | F9: 101 | G9: 15 | H9: 27 | I9: 12 | J9: 0 | K9: 0 | L9: 0 | M9: 2 | N9: 0 | O9: 1 | P9: 0 | Q9: 0
A10: Технические науки | B10: 7511 | C10: 3036 | D10: 380 | E10: 530 | F10: 3251 | G10: 79 | H10: 43 | I10: 116 | J10: 0 | K10: 5 | L10: 3 | M10: 6 | N10: 7 | O10: 1 | P10: 4 | Q10: 50
A11: Экономика и право | B11: 2982 | C11: 1890 | D11: 380 | E11: 280 | F11: 295 | G11: 63 | H11: 20 | I11: 35 | J11: 0 | K11: 3 | L11: 6 | M11: 4 | N11: 1 | O11: 5 | P11: 0 | Q11: 0
A12: Общий итог | B12: 17522 | C12: 8902 | D12: 1811 | E12: 1593 | F12: 4407 | G12: 275 | H12: 117 | I12: 230 | J12: 1 | K12: 12 | L12: 13 | M12: 17 | N12: 8 | O12: 17 | P12: 13 | Q12: 106
